BEGIN:VCALENDAR
VERSION:2.0
PRODID:-//Lycée des métiers de Ducharmoy - ECPv6.15.12.2//NONSGML v1.0//EN
CALSCALE:GREGORIAN
METHOD:PUBLISH
X-WR-CALNAME:Lycée des métiers de Ducharmoy
X-ORIGINAL-URL:https://ducharmoy.lyc.ac-guadeloupe.fr
X-WR-CALDESC:Évènements pour Lycée des métiers de Ducharmoy
REFRESH-INTERVAL;VALUE=DURATION:PT1H
X-Robots-Tag:noindex
X-PUBLISHED-TTL:PT1H
BEGIN:VTIMEZONE
TZID:America/Halifax
BEGIN:DAYLIGHT
TZOFFSETFROM:-0400
TZOFFSETTO:-0300
TZNAME:ADT
DTSTART:20220313T060000
END:DAYLIGHT
BEGIN:STANDARD
TZOFFSETFROM:-0300
TZOFFSETTO:-0400
TZNAME:AST
DTSTART:20221106T050000
END:STANDARD
BEGIN:DAYLIGHT
TZOFFSETFROM:-0400
TZOFFSETTO:-0300
TZNAME:ADT
DTSTART:20230312T060000
END:DAYLIGHT
BEGIN:STANDARD
TZOFFSETFROM:-0300
TZOFFSETTO:-0400
TZNAME:AST
DTSTART:20231105T050000
END:STANDARD
BEGIN:DAYLIGHT
TZOFFSETFROM:-0400
TZOFFSETTO:-0300
TZNAME:ADT
DTSTART:20240310T060000
END:DAYLIGHT
BEGIN:STANDARD
TZOFFSETFROM:-0300
TZOFFSETTO:-0400
TZNAME:AST
DTSTART:20241103T050000
END:STANDARD
END:VTIMEZONE
BEGIN:VEVENT
DTSTART;VALUE=DATE:20230531
DTEND;VALUE=DATE:20230601
DTSTAMP:20260425T155442
CREATED:20230529T144501Z
LAST-MODIFIED:20230529T144716Z
UID:1841-1685491200-1685577599@ducharmoy.lyc.ac-guadeloupe.fr
SUMMARY:Sortie UNSS
DESCRIPTION:Sortie UNSS ce mercredi 31 Mai pour certains élèves.
URL:https://ducharmoy.lyc.ac-guadeloupe.fr/event/sortie-unss/
END:VEVENT
BEGIN:VEVENT
DTSTART;VALUE=DATE:20230329
DTEND;VALUE=DATE:20230330
DTSTAMP:20260425T155442
CREATED:20230327T201045Z
LAST-MODIFIED:20230526T231401Z
UID:1714-1680048000-1680134399@ducharmoy.lyc.ac-guadeloupe.fr
SUMMARY:Forum Synergie RH
DESCRIPTION:Organisé par le rectorat de la Guadeloupe\, ce forum s’adresse aux personnels des premier et second degré de la zone sud-basse-terre\, et leur donne l’opportunité de : \n\néchanger et bénéficier de conseils des représentantes et représentants des services académiques ;\nbénéficier d’un accompagnement personnalisé an cas de difficultés de santé ou d’ordre social ;\nbénéficier d’entretiens individuels dans un cadre confidentiel ;\nbénéficier de conseils des partenaires MGEN\, MAIF\, GMF et Autonome de Solidarité pour tout ce qui concerne la prévention des risques professionnels et l’accompagnement en cas de difficultés.
URL:https://ducharmoy.lyc.ac-guadeloupe.fr/event/forum-synergie-rh-4/
END:VEVENT
END:VCALENDAR